BEGIN:VCALENDAR
VERSION:2.0
PRODID:-//GOATTIX - ECPv6.15.17.1//NONSGML v1.0//EN
CALSCALE:GREGORIAN
METHOD:PUBLISH
X-ORIGINAL-URL:https://www.goattix.com
X-WR-CALDESC:Events for GOATTIX
REFRESH-INTERVAL;VALUE=DURATION:PT1H
X-Robots-Tag:noindex
X-PUBLISHED-TTL:PT1H
BEGIN:VTIMEZONE
TZID:America/New_York
BEGIN:DAYLIGHT
TZOFFSETFROM:-0500
TZOFFSETTO:-0400
TZNAME:EDT
DTSTART:20210314T070000
END:DAYLIGHT
BEGIN:STANDARD
TZOFFSETFROM:-0400
TZOFFSETTO:-0500
TZNAME:EST
DTSTART:20211107T060000
END:STANDARD
BEGIN:DAYLIGHT
TZOFFSETFROM:-0500
TZOFFSETTO:-0400
TZNAME:EDT
DTSTART:20220313T070000
END:DAYLIGHT
BEGIN:STANDARD
TZOFFSETFROM:-0400
TZOFFSETTO:-0500
TZNAME:EST
DTSTART:20221106T060000
END:STANDARD
BEGIN:DAYLIGHT
TZOFFSETFROM:-0500
TZOFFSETTO:-0400
TZNAME:EDT
DTSTART:20230312T070000
END:DAYLIGHT
BEGIN:STANDARD
TZOFFSETFROM:-0400
TZOFFSETTO:-0500
TZNAME:EST
DTSTART:20231105T060000
END:STANDARD
BEGIN:DAYLIGHT
TZOFFSETFROM:-0500
TZOFFSETTO:-0400
TZNAME:EDT
DTSTART:20240310T070000
END:DAYLIGHT
BEGIN:STANDARD
TZOFFSETFROM:-0400
TZOFFSETTO:-0500
TZNAME:EST
DTSTART:20241103T060000
END:STANDARD
BEGIN:DAYLIGHT
TZOFFSETFROM:-0500
TZOFFSETTO:-0400
TZNAME:EDT
DTSTART:20250309T070000
END:DAYLIGHT
BEGIN:STANDARD
TZOFFSETFROM:-0400
TZOFFSETTO:-0500
TZNAME:EST
DTSTART:20251102T060000
END:STANDARD
BEGIN:DAYLIGHT
TZOFFSETFROM:-0500
TZOFFSETTO:-0400
TZNAME:EDT
DTSTART:20260308T070000
END:DAYLIGHT
BEGIN:STANDARD
TZOFFSETFROM:-0400
TZOFFSETTO:-0500
TZNAME:EST
DTSTART:20261101T060000
END:STANDARD
END:VTIMEZONE
BEGIN:VEVENT
DTSTART;TZID=America/New_York:20250106T080000
DTEND;TZID=America/New_York:20250106T170000
DTSTAMP:20260421T062054
CREATED:20250105T174944Z
LAST-MODIFIED:20250105T174944Z
UID:10000104-1736150400-1736182800@www.goattix.com
SUMMARY:test
DESCRIPTION:test
URL:https://www.goattix.com/event/test-2/
LOCATION:1085 east 13th\, Miami FL 33010\, 1085 east 13th\, Miami\, FL\, 33010\, United States
END:VEVENT
BEGIN:VEVENT
DTSTART;TZID=America/New_York:20231207T210000
DTEND;TZID=America/New_York:20231208T020000
DTSTAMP:20260421T062054
CREATED:20231205T220914Z
LAST-MODIFIED:20240117T212921Z
UID:10000086-1701982800-1702000800@www.goattix.com
SUMMARY:Techno Night | The Attic | 12.7.2023
DESCRIPTION:THURSDAY 12.7.2023 Blaze Entertainment Techno Night at The Attic in Downtown Orlando with DJ Lady Jay\, Germ b2b Tia Ariel\, Prospvct\, Qìno 🔥 Free with RSVP until 11pm\, 18+ with valid ID\, Doors: 9pm. Location: The Attic 68 E Pine St. Orlando\, FL 32801
URL:https://www.goattix.com/event/techno-night-the-attic-12-7-2023/
LOCATION:Attic\, 68 E Pine St\, Orlando\, FL\, 32801\, United States
END:VEVENT
BEGIN:VEVENT
DTSTART;TZID=America/New_York:20231130T210000
DTEND;TZID=America/New_York:20231201T020000
DTSTAMP:20260421T062054
CREATED:20231129T011400Z
LAST-MODIFIED:20240117T212930Z
UID:10000085-1701378000-1701396000@www.goattix.com
SUMMARY:House Sessions | The Attic | 11.30.2023
DESCRIPTION:Thursday\, 11.30.2023 Blaze Entertainment House Sessions at The Attic in Downtown Orlando
URL:https://www.goattix.com/event/house-sessions-the-attic-11-30-2023/
LOCATION:Attic\, 68 E Pine St\, Orlando\, FL\, 32801\, United States
END:VEVENT
BEGIN:VEVENT
DTSTART;TZID=America/New_York:20231124T210000
DTEND;TZID=America/New_York:20231125T020000
DTSTAMP:20260421T062054
CREATED:20231123T045704Z
LAST-MODIFIED:20240117T212952Z
UID:10000084-1700859600-1700877600@www.goattix.com
SUMMARY:House Sessions | Attic | Friday 11.24.23
DESCRIPTION:House Sessions
URL:https://www.goattix.com/event/house-sessions-attic-friday-11-24-23/
LOCATION:Attic\, 68 E Pine St\, Orlando\, FL\, 32801\, United States
END:VEVENT
BEGIN:VEVENT
DTSTART;TZID=America/New_York:20231116T210000
DTEND;TZID=America/New_York:20231117T020000
DTSTAMP:20260421T062054
CREATED:20231110T033340Z
LAST-MODIFIED:20240117T212957Z
UID:10000082-1700168400-1700186400@www.goattix.com
SUMMARY:Zubah at Attic | 11.16.23
DESCRIPTION: THURSDAY\, 11.16.2023 Blaze Entertainment presents Zubah with Bassonomics\, D3vinity\, Fieldz\, Vicky B and special guests at The Attic in Downtown Orlando \n.\n Tickets (link in bio):\nFree with RSVP until 11pm\nGeneral admission: $15\n.\n Date: 11.16.2023\n.\n Time: Doors at 9pm\n.\n: The Attic 68 East Pine St. Orlando\, FL 32801
URL:https://www.goattix.com/event/zubah-at-attic-11-16-23/
LOCATION:Attic\, 68 E Pine St\, Orlando\, FL\, 32801\, United States
END:VEVENT
BEGIN:VEVENT
DTSTART;TZID=America/New_York:20231112T210000
DTEND;TZID=America/New_York:20231113T030000
DTSTAMP:20260421T062054
CREATED:20231101T210331Z
LAST-MODIFIED:20240117T212940Z
UID:10000079-1699822800-1699844400@www.goattix.com
SUMMARY:Festival After Party House Sessions | Crow and Company | Sunday 11.12.23
DESCRIPTION:FREE with RSVP before 12am Blaze Entertainment House Sessions is back with our Festival After Party at Crow & Company in Downtown Orlando with Gus Gudno b2b Mings\, Hashbrown\, Los Tempo\, K.X plus special guests\nDoors: 9pm until close at 3am
URL:https://www.goattix.com/event/festival-after-party-at-crow-and-company-11-12-23/
LOCATION:Crow and Company\, 56 E Pine St\, Orlando\, FL\, 32801\, United States
END:VEVENT
BEGIN:VEVENT
DTSTART;TZID=America/New_York:20231111T210000
DTEND;TZID=America/New_York:20231112T030000
DTSTAMP:20260421T062054
CREATED:20231101T205848Z
LAST-MODIFIED:20240117T213008Z
UID:10000078-1699736400-1699758000@www.goattix.com
SUMMARY:Festival After Party Zoobstool and Friends | Crow and Company | Saturday 11.11.23
DESCRIPTION:Saturday 11.11.23 at Crow and Company in Downtown Orlando\, Blaze Entertainment brings you an EDM festival after party with Zoobstool + friends from 9pm until 3am
URL:https://www.goattix.com/event/festival-after-party-at-crow-and-company-11-11-23/
LOCATION:Crow and Company\, 56 E Pine St\, Orlando\, FL\, 32801\, United States
END:VEVENT
BEGIN:VEVENT
DTSTART;TZID=America/New_York:20231110T210000
DTEND;TZID=America/New_York:20231111T020000
DTSTAMP:20260421T062054
CREATED:20231101T205452Z
LAST-MODIFIED:20240117T213015Z
UID:10000077-1699650000-1699668000@www.goattix.com
SUMMARY:Festival After Party | Crow and Company | Friday 11.10.23
DESCRIPTION:18+ Event \nFestival After Party at Crow and Company | 11.10.23
URL:https://www.goattix.com/event/festival-after-party-at-crow-and-company-11-10-23/
LOCATION:Crow and Company\, 56 E Pine St\, Orlando\, FL\, 32801\, United States
END:VEVENT
BEGIN:VEVENT
DTSTART;TZID=America/New_York:20231109T210000
DTEND;TZID=America/New_York:20231110T020000
DTSTAMP:20260421T062054
CREATED:20231023T213723Z
LAST-MODIFIED:20231110T032221Z
UID:10000072-1699563600-1699581600@www.goattix.com
SUMMARY:Blood Rave Festival Pre-Party at Attic | Thursday 11.09.23
DESCRIPTION: Thursday\, 11.9.2023 Blaze Entertainment presents our Blood Rave techno event at The Attic in Downtown Orlando\, FL with C:ØDE\, CASJ\, GENIE AERO\, PARADEX & YARI (VE)  Costumes encouraged\, vampire\, gothic\, industrial\, techno themes \n.\n Tickets: This is a ticketed event- online $5 limited early bird tickets\, $10 general admission\, $15 at the door\, 18+ with valid ID\, link in bio\nVIP Sections & Bottles contact 407-484-4877\n.\n Doors: 9pm\n.\nLocation: @theatticorlando 68 E Pine St\, Orlando\, FL 32801
URL:https://www.goattix.com/event/festival-pre-party-at-attic-11-09-23/
LOCATION:Attic\, 68 E Pine St\, Orlando\, FL\, 32801\, United States
END:VEVENT
BEGIN:VEVENT
DTSTART;TZID=America/New_York:20231103T210000
DTEND;TZID=America/New_York:20231104T020000
DTSTAMP:20260421T062054
CREATED:20231101T213501Z
LAST-MODIFIED:20240117T213022Z
UID:10000080-1699045200-1699063200@www.goattix.com
SUMMARY:Fusion Friday at Crow and Company | 11.03.23
DESCRIPTION:Fusion Friday at Crow and Company | 11.03.23
URL:https://www.goattix.com/event/fusion-friday-at-crow-and-company-11-03-23/
LOCATION:Crow and Company\, 56 E Pine St\, Orlando\, FL\, 32801\, United States
END:VEVENT
BEGIN:VEVENT
DTSTART;TZID=America/New_York:20231102T210000
DTEND;TZID=America/New_York:20231103T020000
DTSTAMP:20260421T062054
CREATED:20231029T233045Z
LAST-MODIFIED:20240117T213030Z
UID:10000073-1698958800-1698976800@www.goattix.com
SUMMARY:Anime Rave Ft. Kino\, IMDJ2k\, Kurbixx\, Terminal Velocity | The Attic | 11.02.23
DESCRIPTION:Join us at The Attic Orlando on 11.02.23 for the Blaze Entertainment Anime Rave with an incredible lineup featuring Kino\, IMDJ2k\, Kurbiix\, and Terminal Velocity. Cosplay encouraged\, grab your friends and dance the night away to your favorite anime soundtracks and EDM remixes. Doors at 9pm\,18+ with valid ID\, this is a ticketed event\, $5 online or $10 at the door. \nLocation: The Attic 68 E Pine St\, Orlando\, FL 32801
URL:https://www.goattix.com/event/anime-ft-kino/
LOCATION:Attic\, 68 E Pine St\, Orlando\, FL\, 32801\, United States
END:VEVENT
BEGIN:VEVENT
DTSTART;TZID=America/New_York:20231026T210000
DTEND;TZID=America/New_York:20231027T020000
DTSTAMP:20260421T062054
CREATED:20231023T212106Z
LAST-MODIFIED:20240117T213036Z
UID:10000070-1698354000-1698372000@www.goattix.com
SUMMARY:House Sessions ft. Josh Dyln\, Lo-G + more at Attic | 10.26.23
DESCRIPTION:House Sessions ft. Josh Dyln\, Lo-G + more at Attic | 10.26.23
URL:https://www.goattix.com/event/house-sessions-ft-josh-dyln-lo-g-more-at-attic-10-26-23/
LOCATION:Attic\, 68 E Pine St\, Orlando\, FL\, 32801\, United States
END:VEVENT
BEGIN:VEVENT
DTSTART;TZID=America/New_York:20231021T210000
DTEND;TZID=America/New_York:20231022T020000
DTSTAMP:20260421T062054
CREATED:20230707T155141Z
LAST-MODIFIED:20240117T213126Z
UID:10000064-1697922000-1697940000@www.goattix.com
SUMMARY:Blaze Entertainment Halloween Party | Crow & Company
DESCRIPTION:Blaze Entertainment Halloween EDM show has a venue/time updated- now at Crow & Company in Downtown Orlando  Costumes encouraged\n: 18+ ($5 surcharge for anyone under 21) with valid ID this is a ticket event at Goattix.com\n: Doors at 9pm\n: 56 E Pine St\, Orlando\, FL 32801
URL:https://www.goattix.com/event/epic-halloween-party-pt5/
LOCATION:Crow and Company\, 56 E Pine St\, Orlando\, FL\, 32801\, United States
END:VEVENT
BEGIN:VEVENT
DTSTART;TZID=America/New_York:20231019T210000
DTEND;TZID=America/New_York:20231020T020000
DTSTAMP:20260421T062054
CREATED:20231011T125556Z
LAST-MODIFIED:20240117T213204Z
UID:10000069-1697749200-1697767200@www.goattix.com
SUMMARY:Blood Rave | The Attic | 10.19.2023
DESCRIPTION:🔊 Thursday\, 10.19.2023 Blaze Entertainment presents our Blood Rave techno event at The Attic in Downtown Orlando\, FL with INIGMA\, C:ØDE\, MXRMXR and WHITE WOLF 🔥 Costumes encouraged\, vampire\, gothic\, industrial\, techno themes 🩸\n.\n🎟️ Tickets: This is a ticketed event- With valid ID Ages 18-20 $10 (Additional $5 surcharge at the door)\, Ages 21+ Free RSVP from 9-11pm\, $10 after 11pm\, VIP Sections available\, see link for details https://www.goattix.com/event/bloodrave-at-attic-10-19-23/\n.\n🚪 Doors: 9pm\n.\n📍Location: The Attic 68 E Pine St\, Orlando\, FL 32801 (Upstairs from The Basement and Papa Smash Burger)
URL:https://www.goattix.com/event/bloodrave-at-attic-10-19-23/
LOCATION:Attic\, 68 E Pine St\, Orlando\, FL\, 32801\, United States
END:VEVENT
BEGIN:VEVENT
DTSTART;TZID=America/New_York:20231005T220000
DTEND;TZID=America/New_York:20231006T020000
DTSTAMP:20260421T062054
CREATED:20230926T170740Z
LAST-MODIFIED:20240117T213213Z
UID:10000066-1696543200-1696557600@www.goattix.com
SUMMARY:Anime Rave ft. Prodgy\,
DESCRIPTION: Thursday\, 10.5.2023 the Blaze Entertainment Anime Rave is back at the Corner Bar in Downtown Orlando with Prodgy\, Wuhhappen\, Xenon Dream\, BYNZ\, Degenerate Baka\, MX\, Omnicide and Psy Relix  Cosplay encouraged\, 18+ with valid ID\, this is a ticketed event  \n🎟️ Tickets:\nGeneral admission (online): $15\nVIP/Skip the line (online): $20\nGeneral admission (door/day of show): $20\nVIP/Skip the line (door/day of show): $25 \nUnder 21 will be charged $5 additional to Admission fee.
URL:https://www.goattix.com/event/anime-rave-ft-prodgy/
LOCATION:The Corner\, 70 N Orange ave\, Orlando\, FL\, 32801\, United States
END:VEVENT
BEGIN:VEVENT
DTSTART;TZID=America/New_York:20230930T220000
DTEND;TZID=America/New_York:20231001T020000
DTSTAMP:20260421T062054
CREATED:20230622T003138Z
LAST-MODIFIED:20231001T030300Z
UID:10000062-1696111200-1696125600@www.goattix.com
SUMMARY:Rebel Takeover
DESCRIPTION:Free RSVP are limited and are on a First come first serve basis. All entry after RSVPs are gone will be paid only. \nCharlotte\,North Carolina Music Festival Afterparty \nEntry is 18+. For those under 21 a $10 charge will be added at the door.
URL:https://www.goattix.com/event/rebel-takeover/
LOCATION:Rebel\, 2906 Central Ave.\, Charlotte\, NC\, 28205\, United States
END:VEVENT
BEGIN:VEVENT
DTSTART;TZID=America/New_York:20230830T220000
DTEND;TZID=America/New_York:20230830T220000
DTSTAMP:20260421T062054
CREATED:20230808T133951Z
LAST-MODIFIED:20240117T213224Z
UID:10000065-1693432800-1693432800@www.goattix.com
SUMMARY:Xotix at The Loft | 08/30/23
DESCRIPTION:Xotix performs live at The Loft!
URL:https://www.goattix.com/event/xotix-at-the-loft-08-30-23/
LOCATION:The Loft\, 11 SW 1st St\, Gainesville\, FL\, 32601\, United States
END:VEVENT
BEGIN:VEVENT
DTSTART;TZID=America/New_York:20230702T220000
DTEND;TZID=America/New_York:20230703T020000
DTSTAMP:20260421T062054
CREATED:20230627T224210Z
LAST-MODIFIED:20240117T213240Z
UID:10000063-1688335200-1688349600@www.goattix.com
SUMMARY:4th Of July Bash!
DESCRIPTION:Blaze Entertainment and Erik Toro Presents \n4th of July Bash! \nHosted by All American Boys \n$22 All you can drink!  \nBus Transportation $15 @ 10:45 and 11:15 (Dominos Parking lot)  \nDJ King and Diego Armand
URL:https://www.goattix.com/event/4th-of-july-bash/
LOCATION:Orlando Indoor Soccer\, 11435 Rocket Blvd #104\, Orlando\, 32824
END:VEVENT
BEGIN:VEVENT
DTSTART;TZID=America/New_York:20230610T220000
DTEND;TZID=America/New_York:20230611T040000
DTSTAMP:20260421T062054
CREATED:20230330T182636Z
LAST-MODIFIED:20240117T213322Z
UID:10000051-1686434400-1686456000@www.goattix.com
SUMMARY:Secret Potions Festival After Party Day 2 I Saturday 6.10.2023
DESCRIPTION:Open Bar! \n3 Stages with different DJs playing every Hour! \nMain Stage:\n10-11: @inqu.bass \n11-12: @royalflushwav \n12-1: @galacticeffect \n1-2: @dabsandbass \n2-3: @zoobstool \n3-4: Special Guest \nPurple Potion Stage:\n10-11: @dj_schmack \n11-12: @brdnmusic \n12-1: @guarzino \n1-2: @ajax.alexander \n2-3: @maylaymusicc \n3-4: @gl1tch.official \nRed Potion Stage:\n10-11: @_leobrancodj \n11-12: @konsumpxion \n12-1: @mateussouza_music \n1-2: @loganloomisofc \n1-2: @iamkidzeus \n2-3: @kevwithay_
URL:https://www.goattix.com/event/festival-afterparty-day-2-2/
LOCATION:Orlando Indoor Soccer\, 11435 Rocket Blvd #104\, Orlando\, 32824
END:VEVENT
BEGIN:VEVENT
DTSTART;TZID=America/New_York:20230609T220000
DTEND;TZID=America/New_York:20230610T040000
DTSTAMP:20260421T062054
CREATED:20230330T182029Z
LAST-MODIFIED:20240117T213245Z
UID:10000050-1686348000-1686369600@www.goattix.com
SUMMARY:Secret Potions Festival After Party Day 1 I Friday 6.9.2023
DESCRIPTION:Open Bar! \n3 Stages with different DJs playing every Hour! \nMainstage:\n10-11: @officiallylostinparadise \n11-12: @myarabimusic \n12-1: @dj_vickyb \n1-2: @ariisoraya \n2-3: @lethablake \n3-2: @hi_im_savannah \nPurple Potion Stage:\n10-11: @dropster_official \n11-12: @who_dat_hoodrat \n12-1: Special Guests! \n1-2: @joyntmusic \n2-3: @lilsleep__ \n3-4: @lysergiixmusic \nBlue Potion Stage:\n10-11: @djkeytone \n11-12: @mrstarzofficial \n12-1: @_M.Teck_ \n1-2: @jay_castro7 \n2-3: @garaudyii \n3-4: @sokoluv
URL:https://www.goattix.com/event/festival-afterparty-day-1/
LOCATION:Orlando Indoor Soccer\, 11435 Rocket Blvd #104\, Orlando\, 32824
END:VEVENT
BEGIN:VEVENT
DTSTART;TZID=America/New_York:20230519T080000
DTEND;TZID=America/New_York:20230519T170000
DTSTAMP:20260421T062054
CREATED:20230407T031731Z
LAST-MODIFIED:20240117T213250Z
UID:10000053-1684483200-1684515600@www.goattix.com
SUMMARY:Need for Beats RELOADED (An Artist Showcase)
DESCRIPTION:All inclusive tickets
URL:https://www.goattix.com/event/need-for-beats-showcase/
LOCATION:WEARHAUS\, 1311 w south street\, Orlando\, FL\, 32805\, United States
END:VEVENT
BEGIN:VEVENT
DTSTART;TZID=America/New_York:20230420T220000
DTEND;TZID=America/New_York:20230421T020000
DTSTAMP:20260421T062054
CREATED:20230201T024706Z
LAST-MODIFIED:20240117T213256Z
UID:10000044-1682028000-1682042400@www.goattix.com
SUMMARY:Annual 4/20 Show
DESCRIPTION:Annual 4/20 Show more info TBD
URL:https://www.goattix.com/event/annual-4-20-show/
LOCATION:Gilt Concert Venue\, 740 Bennett Rd\, Orlando\, FL\, 32803\, United States
END:VEVENT
BEGIN:VEVENT
DTSTART;TZID=America/New_York:20230401T220000
DTEND;TZID=America/New_York:20230402T020000
DTSTAMP:20260421T062054
CREATED:20230211T000357Z
LAST-MODIFIED:20240117T213301Z
UID:10000047-1680386400-1680400800@www.goattix.com
SUMMARY:Club Kaiju- Con Party
DESCRIPTION:Anime Rave more details coming soon
URL:https://www.goattix.com/event/anime-rave/
LOCATION:Ace Cafe\, 100 W Livingston St\, Orlando\, FL\, 32801\, United States
END:VEVENT
BEGIN:VEVENT
DTSTART;TZID=America/New_York:20230317T190000
DTEND;TZID=America/New_York:20230318T000000
DTSTAMP:20260421T062054
CREATED:20230209T201642Z
LAST-MODIFIED:20230213T210032Z
UID:10000045-1679079600-1679097600@www.goattix.com
SUMMARY:Need For Beats Showcase
DESCRIPTION:Need For Beats
URL:https://www.goattix.com/event/need-for-beats/
LOCATION:WEARHAUS\, 1311 w south street\, Orlando\, FL\, 32805\, United States
END:VEVENT
BEGIN:VEVENT
DTSTART;TZID=America/New_York:20221203T200000
DTEND;TZID=America/New_York:20221204T020000
DTSTAMP:20260421T062054
CREATED:20221112T035103Z
LAST-MODIFIED:20221203T180440Z
UID:10000039-1670097600-1670119200@www.goattix.com
SUMMARY:Tiny Waves - Holiday Matsuri Pre-Party (Feat. DJ-Jo & Kpop Rave)
DESCRIPTION:✨ ‘TIS THE SEASON for a holiday RAVE!! Tiny Waves presents the OFFICIAL pre-party for Holiday Matsuri 2022! Join us for a fun and festive celebration at Level 13 Event Center on Saturday\, December 3rd featuring a joyful holiday blend of our iconic K-POP RAVE & CosRave events! \nK-POP RAVE (3 HOUR BLOCK):\nPolyKor & Fortune Swan \nFeatured EDM performances:\ndj-Jo\, KINO\, & Jams Bond (Ben Briggs b2b H808) \nWe’ll be opening the evening with the EDM sets\, and once we get warmed up\, it’ll be the best K-Pop for the rest of the night! Be sure to wear your best festive fits\, as we’ll have a FREE PHOTO BOOTH to commemorate the holiday cheer! Happy Holidays\, and see you at the rave!! ✨ \n🎄 9PM-2AM / Doors open at 8PM / Ages 18+\n⛄ Presented by Tiny Waves & Blaze Entertainment\n🎄 Officially Sponsored by Holiday Matsuri\n⛄ Free professional photos at the photo booth outside\n🎄 Safe Space\, Zero Tolerance for Harassment\n⛄ No Large Bags\, No Weapons or Outside Alcohol\n🎄 Masks are encouraged and will be provided at the door
URL:https://www.goattix.com/event/tiny-waves-holiday-matsuri-pre-party-feat-dj-jo-kpop-rave/
LOCATION:Level 13\, 5043 Edgewater Dr\, Orlando\, FL\, 32810\, United States
ORGANIZER;CN="Tiny Waves":MAILTO:tinywavesbooking@gmail.com
END:VEVENT
BEGIN:VEVENT
DTSTART;TZID=America/New_York:20221113T220000
DTEND;TZID=America/New_York:20221114T050000
DTSTAMP:20260421T062054
CREATED:20221105T163946Z
LAST-MODIFIED:20240117T213332Z
UID:10000037-1668376800-1668402000@www.goattix.com
SUMMARY:As Requested\, Festival After Party At Level 13| Sunday 11.13.22
DESCRIPTION:Line up to be announced\nNo Refunds\n21+ Only
URL:https://www.goattix.com/event/festival-after-party-11-13-22/
LOCATION:Level 13\, 5043 Edgewater Dr\, Orlando\, FL\, 32810\, United States
END:VEVENT
BEGIN:VEVENT
DTSTART;TZID=America/New_York:20221112T220000
DTEND;TZID=America/New_York:20221113T050000
DTSTAMP:20260421T062054
CREATED:20221105T163348Z
LAST-MODIFIED:20240117T213338Z
UID:10000036-1668290400-1668315600@www.goattix.com
SUMMARY:As Requested\, Festival After Party At Level 13| Saturday 11.12.22
DESCRIPTION:Line up to be announced\nNo Refunds\n21+ only
URL:https://www.goattix.com/event/festival-after-party-11-12-22/
LOCATION:Level 13\, 5043 Edgewater Dr\, Orlando\, FL\, 32810\, United States
END:VEVENT
BEGIN:VEVENT
DTSTART;TZID=America/New_York:20221111T220000
DTEND;TZID=America/New_York:20221112T050000
DTSTAMP:20260421T062054
CREATED:20221105T163141Z
LAST-MODIFIED:20240117T213346Z
UID:10000035-1668204000-1668229200@www.goattix.com
SUMMARY:As Requested\, Festival After Party At Level 13| Friday 11.11.22
DESCRIPTION:Line up to be announced\nNo Refunds\n21+ Only
URL:https://www.goattix.com/event/festival-afterparty-11-11-22/
LOCATION:Level 13\, 5043 Edgewater Dr\, Orlando\, FL\, 32810\, United States
END:VEVENT
BEGIN:VEVENT
DTSTART;TZID=America/New_York:20221110T210000
DTEND;TZID=America/New_York:20221111T023000
DTSTAMP:20260421T062054
CREATED:20221105T161911Z
LAST-MODIFIED:20240117T213353Z
UID:10000031-1668114000-1668133800@www.goattix.com
SUMMARY:As Requested\, Festival Pre Party At Level 13| Thursday 11.10.22
DESCRIPTION:Line up to be announced\nFree RSVP before 11:00pm\nNo Refunds\n21+ Only
URL:https://www.goattix.com/event/festival-pre-party-11-10-22/
LOCATION:Level 13\, 5043 Edgewater Dr\, Orlando\, FL\, 32810\, United States
END:VEVENT
BEGIN:VEVENT
DTSTART;TZID=America/New_York:20221031T210000
DTEND;TZID=America/New_York:20221101T030000
DTSTAMP:20260421T062054
CREATED:20220907T182429Z
LAST-MODIFIED:20240117T213407Z
UID:10000011-1667250000-1667271600@www.goattix.com
SUMMARY:Epic Halloween Party Pt. 4 | Mon 10.31.22
DESCRIPTION:Epic Halloween Party #4\nHeadliner: GRAVEDGR\nThere will be a maze that you have to go through to get to the party \nReenforced production to the stage and decorations.\nThere will be art installation for people to take pictures with.\nFULL HALLOWEEN EXPERIENCE\n\n  \n18+ to Enter 21+ to drink
URL:https://www.goattix.com/event/epic-halloween-party-pt-4-mon-10-31-22/
LOCATION:Level 13\, 5043 Edgewater Dr\, Orlando\, FL\, 32810\, United States
END:VEVENT
END:VCALENDAR